BEGIN:VCALENDAR
VERSION:2.0
PRODID:-//Hate-Free Together - ECPv6.15.18//NONSGML v1.0//EN
CALSCALE:GREGORIAN
METHOD:PUBLISH
X-WR-CALNAME:Hate-Free Together
X-ORIGINAL-URL:https://hatefreetogether.org
X-WR-CALDESC:Events for Hate-Free Together
REFRESH-INTERVAL;VALUE=DURATION:PT1H
X-Robots-Tag:noindex
X-PUBLISHED-TTL:PT1H
BEGIN:VTIMEZONE
TZID:UTC
BEGIN:STANDARD
TZOFFSETFROM:+0000
TZOFFSETTO:+0000
TZNAME:UTC
DTSTART:20250101T000000
END:STANDARD
END:VTIMEZONE
BEGIN:VEVENT
DTSTART;TZID=UTC:20260516T120000
DTEND;TZID=UTC:20260516T180000
DTSTAMP:20260421T141752
CREATED:20260410T182807Z
LAST-MODIFIED:20260410T182807Z
UID:10000317-1778932800-1778954400@hatefreetogether.org
SUMMARY:La Gran Tardeada
DESCRIPTION:La Gran Tardeada is a vibrant and lively day-long celebration that brings together the Chicanx/Latinx community in a joyous gathering filled with delicious food\, enchanting music\, and energetic dance. La Gran Tardeada serves as a focal point for celebrating the diverse intersectional identities and experiences within the beautiful Chicanx/Latinx community. \n  \nThrough its festivities and cultural celebration\, La Gran Tardeada strives to preserve and transmit the heritage and legacy of the Chicanx/Latinx community to future generations. Everything will take place  on Saturday\, May 16th 2026 from 12pm to 6pm at the UC Davis Quad. \n  \nAll are welcome to this free\, open to the public\, outdoor\, family-friendly event. \n  \nFor more information\, visit the Cross Cultural Center website.
URL:https://hatefreetogether.org/event/la-gran-tardeada-chicanix-celebration/
LOCATION:UC Davis Quad\, 1 Shields Avenue\, Davis\, CA\, 95616
ATTACH;FMTTYPE=image/png:https://hatefreetogether.org/wp-content/uploads/Screenshot-2025-06-05-at-11.59.08-AM-e1775845468265.png
END:VEVENT
BEGIN:VEVENT
DTSTART;TZID=UTC:20260523T120000
DTEND;TZID=UTC:20260523T200000
DTSTAMP:20260421T141752
CREATED:20260130T185640Z
LAST-MODIFIED:20260130T190843Z
UID:10000308-1779537600-1779566400@hatefreetogether.org
SUMMARY:UC Davis Black Family Day
DESCRIPTION:The UC Davis Black Family day is an event to celebrate Black excellence\, empowerment\, and community. It is open to students\, families\, and community members. \n  \nThe event will be hosted on the UC Davis Quad on May 23rd\, from Noon to 8 PM. \n  \nAttendees will enjoy a day full of entertainers and speakers\, honoring the Black community and building conversations around achievements and contemporary issues. Local vendors will be selling delicious food\, clothes\, books\, and much more. Organizations and clubs join the festivities to share information and host engaging activities. \n  \nGet ready to enjoy a day full of music\, good food\, and celebrations of Black culture. The UC Davis Black Family Day is free for all to attend. \n  \nFor any inquiries\, contact: ucdblackfamilyday@ucdavis.edu
URL:https://hatefreetogether.org/event/uc-davis-black-family-day/
LOCATION:UC Davis Quad\, 1 Shields Avenue\, Davis\, CA\, 95616
ATTACH;FMTTYPE=image/jpeg:https://hatefreetogether.org/wp-content/uploads/https___cdn.evbuc_.com_images_1101161593_508470267019_1_original.jpg
END:VEVENT
END:VCALENDAR