BEGIN:VCALENDAR
VERSION:2.0
PRODID:-//Hate-Free Together - ECPv6.15.18//NONSGML v1.0//EN
CALSCALE:GREGORIAN
METHOD:PUBLISH
X-ORIGINAL-URL:https://hatefreetogether.org
X-WR-CALDESC:Events for Hate-Free Together
REFRESH-INTERVAL;VALUE=DURATION:PT1H
X-Robots-Tag:noindex
X-PUBLISHED-TTL:PT1H
BEGIN:VTIMEZONE
TZID:UTC
BEGIN:STANDARD
TZOFFSETFROM:+0000
TZOFFSETTO:+0000
TZNAME:UTC
DTSTART:20230101T000000
END:STANDARD
END:VTIMEZONE
BEGIN:VEVENT
DTSTART;TZID=UTC:20240602T100000
DTEND;TZID=UTC:20240602T170000
DTSTAMP:20260422T071704
CREATED:20240315T171759Z
LAST-MODIFIED:20240315T171759Z
UID:10000082-1717322400-1717347600@hatefreetogether.org
SUMMARY:Yolo Juneteenth
DESCRIPTION:Yolo Juneteenth has been an annual tradition with Yolo County Library since 2011 to help celebrate and remember the story of the Black and African American peoples’ freedom from enslavement in the United States. In 2021\, after 155 years of many celebrations\, President Biden announces that Juneteenth (June 19) is officially a federal holiday. \nThis year’s celebration will be hosted at the UC Davis Activities and Recreation Center (ARC)\, located at 760 Orchard Road in Davis\, on Sunday\, June 2\, 2024 from 10 a.m. to 5 p.m. This event is free to attend and this year’s celebration takes place early to honor and not interfere with the local Juneteenth festivities happening in surrounding cities on the day of the holiday. \nYolo Juneteenth Festival is supported\, in part\, by the Yolo County Library\, Friends of the Davis Public Library\, the City of Davis Human Relations Commission and Arts & Cultural Affairs Program and with the support from the UC Davis Office of Diversity\, Equity and Inclusion.
URL:https://hatefreetogether.org/event/yolo-juneteenth-2024/
LOCATION:UC Davis ARC\, 760 Orchard Road\, Davis\, CA\, 95616
ATTACH;FMTTYPE=image/jpeg:https://hatefreetogether.org/wp-content/uploads/Yolo-Juneteenth-2024-2.jpg
END:VEVENT
END:VCALENDAR