BEGIN:VCALENDAR
VERSION:2.0
PRODID:-//Hate-Free Together - ECPv6.15.18//NONSGML v1.0//EN
CALSCALE:GREGORIAN
METHOD:PUBLISH
X-WR-CALNAME:Hate-Free Together
X-ORIGINAL-URL:https://hatefreetogether.org
X-WR-CALDESC:Events for Hate-Free Together
REFRESH-INTERVAL;VALUE=DURATION:PT1H
X-Robots-Tag:noindex
X-PUBLISHED-TTL:PT1H
BEGIN:VTIMEZONE
TZID:UTC
BEGIN:STANDARD
TZOFFSETFROM:+0000
TZOFFSETTO:+0000
TZNAME:UTC
DTSTART:20230101T000000
END:STANDARD
END:VTIMEZONE
BEGIN:VEVENT
DTSTART;TZID=UTC:20240411T100000
DTEND;TZID=UTC:20240411T140000
DTSTAMP:20260421T213219
CREATED:20240408T161246Z
LAST-MODIFIED:20240408T161246Z
UID:10000096-1712829600-1712844000@hatefreetogether.org
SUMMARY:NAMI California Multicultural Wellness Symposium
DESCRIPTION:NAMI California is proud to present Together for Community Wellness\, an intentional event dedicated to multicultural wellness. The symposium includes an intergenerational dialogue with in-depth discussion and knowledge sharing along with presentations from leaders throughout Northern California. \nSpeakers include: \n\nDr. Marbella Alfonzo\, Founding School Director\, Design Tech High School \nMichelle McDaniel\, LCSW\, Staff Therapist/Co-Coordinator of Outreach and Programming\, University of the Pacific\nCourtney Davis\, Executive Director of TabiMOMS\, Human Relations Commissioner for the City of Vallejo\, and NAMI Solano County Board of Directors\nDawn Brown\, Director\, Cross-Cultural Innovation and Engagement\, National Alliance on Mental Illness (NAMI)\nMykel Gayent\, NAMI Sharing Hope Program Leader\, National Alliance on Mental Illness (NAMI)\n\nThis is a fantastic opportunity to build community and connect on the future of mental health in person. The event is free and includes morning refreshments and lunch for participants. Space is limited. \nRSVP here
URL:https://hatefreetogether.org/event/nami-california-multicultural-wellness-symposium/
LOCATION:Sierra Health Foundation\, 1321 Garden Hwy\, Sacramento\, CA\, 95833
ATTACH;FMTTYPE=image/png:https://hatefreetogether.org/wp-content/uploads/NAMI-Multi-Cultural-Wellness-Symposium.png
END:VEVENT
END:VCALENDAR