BEGIN:VCALENDAR
VERSION:2.0
PRODID:-//Hate-Free Together - ECPv6.15.18//NONSGML v1.0//EN
CALSCALE:GREGORIAN
METHOD:PUBLISH
X-WR-CALNAME:Hate-Free Together
X-ORIGINAL-URL:https://hatefreetogether.org
X-WR-CALDESC:Events for Hate-Free Together
REFRESH-INTERVAL;VALUE=DURATION:PT1H
X-Robots-Tag:noindex
X-PUBLISHED-TTL:PT1H
BEGIN:VTIMEZONE
TZID:UTC
BEGIN:STANDARD
TZOFFSETFROM:+0000
TZOFFSETTO:+0000
TZNAME:UTC
DTSTART:20250101T000000
END:STANDARD
END:VTIMEZONE
BEGIN:VEVENT
DTSTART;TZID=UTC:20260426T173000
DTEND;TZID=UTC:20260426T203000
DTSTAMP:20260422T172646
CREATED:20260410T185135Z
LAST-MODIFIED:20260410T185135Z
UID:10000319-1777224600-1777235400@hatefreetogether.org
SUMMARY:International Karaoke Night
DESCRIPTION:International Karaoke Night is a high energy celebration of music\, culture\, and community. Join us on April 26\, 2026 at 5:30 pm – 8:30 pm at the International House. Sing songs from around the world — from favorites from your home country to global hits and timeless classics. No karaoke experience required! Everyone is welcome. \n  \nDiscover music in different languages\, meet new people\, and take part in a joyful evening that brings cultures together through shared experience. Get your ticket and join us for a night where community is built one song at a time. Between performances\, enjoy line dancing and raffle prizes. \n  \nTickets can be purchased here. \n  \nPresale: \n\n$10 I-House Members & Students\n$15 General Admission\n\n\nAt the door: \n\n$20 All Attendees
URL:https://hatefreetogether.org/event/international-karaoke-music-night/
LOCATION:Davis International House\, 10 College Park\, Davis\, CA\, 95616\, United States
ATTACH;FMTTYPE=image/png:https://hatefreetogether.org/wp-content/uploads/International-Karaoke-Flyer-Website-e1775847076207.png
END:VEVENT
BEGIN:VEVENT
DTSTART;TZID=UTC:20260428T163000
DTEND;TZID=UTC:20260428T190000
DTSTAMP:20260422T172646
CREATED:20260410T191341Z
LAST-MODIFIED:20260410T191341Z
UID:10000320-1777393800-1777402800@hatefreetogether.org
SUMMARY:Echoes of Resilience: A Multimedia Exhibition
DESCRIPTION:Echoes of Resilience is a traveling multimedia exhibition centered on the lived experiences of survivors of the 2023 Türkiye–Syria earthquakes. The event will take place on April 28\, 2026 at 4:30 pm – 7:00 pm\, at the International House. \n  \nThe demonstration brings together oral narratives\, photography\, music\, personal artifacts\, and visual art to document stories of loss\, survival\, and rebuilding. The exhibition also includes educational materials exploring the impacts of trauma and pathways toward healing. \n  \nOn display as part of the Roots & Routes series at International House Davis\, the exhibition invites visitors to reflect on themes of migration\, displacement\, belonging\, and the meaning of home. \n  \nRSVP here for the opening ceremony. Free for all to attend!
URL:https://hatefreetogether.org/event/echoes-of-resilience-travelling-exhibition/
LOCATION:Davis International House\, 10 College Park\, Davis\, CA\, 95616\, United States
ATTACH;FMTTYPE=image/png:https://hatefreetogether.org/wp-content/uploads/WT-2026-Echoes-of-Resilience-4.28.26-Website-e1775848310102.png
END:VEVENT
END:VCALENDAR