BEGIN:VCALENDAR
VERSION:2.0
PRODID:-//Hate-Free Together - ECPv6.15.18//NONSGML v1.0//EN
CALSCALE:GREGORIAN
METHOD:PUBLISH
X-WR-CALNAME:Hate-Free Together
X-ORIGINAL-URL:https://hatefreetogether.org
X-WR-CALDESC:Events for Hate-Free Together
REFRESH-INTERVAL;VALUE=DURATION:PT1H
X-Robots-Tag:noindex
X-PUBLISHED-TTL:PT1H
BEGIN:VTIMEZONE
TZID:UTC
BEGIN:STANDARD
TZOFFSETFROM:+0000
TZOFFSETTO:+0000
TZNAME:UTC
DTSTART:20230101T000000
END:STANDARD
END:VTIMEZONE
BEGIN:VEVENT
DTSTART;TZID=UTC:20240528T190000
DTEND;TZID=UTC:20240528T200000
DTSTAMP:20260421T200740
CREATED:20240408T193241Z
LAST-MODIFIED:20240408T193405Z
UID:10000111-1716922800-1716926400@hatefreetogether.org
SUMMARY:Tough Day P.O.W.E.R. Hour
DESCRIPTION:Coach Finch offers a free support group every Tuesday from 7-8 pm for those 18 years and older. P.O.W.E.R. stands for “The Possibility to Overcome obstacles While Empowering one another through Relationship.” \nThe actual meaning of the word tough is something that is durable and strong. Learn how you can turn your ‘tough day’ into something that helps you be more strong and durable for your next challenge. If you have experienced a tough day\, week\, or month(s) this group is for you. Come get tips from a certified life coach & your peers.  \nTHIS GROUP DOES NOT PROVIDE CRISIS CARE AND IS NOT MEANT TO SUPPLEMENT CRISIS CARE IF AN EMERGENCY SITUATION HAS OCCURED. 
URL:https://hatefreetogether.org/event/tough-day-p-o-w-e-r-hour/2024-05-28/
LOCATION:Coach Finch\, 1260 Lake Blvd. Suite #201\, Davis\, CA\, 95616
ATTACH;FMTTYPE=image/jpeg:https://hatefreetogether.org/wp-content/uploads/POWER-Hour-by-Coach-Finch.jpg
END:VEVENT
BEGIN:VEVENT
DTSTART;TZID=UTC:20240521T190000
DTEND;TZID=UTC:20240521T200000
DTSTAMP:20260421T200740
CREATED:20240408T193241Z
LAST-MODIFIED:20240408T193405Z
UID:10000110-1716318000-1716321600@hatefreetogether.org
SUMMARY:Tough Day P.O.W.E.R. Hour
DESCRIPTION:Coach Finch offers a free support group every Tuesday from 7-8 pm for those 18 years and older. P.O.W.E.R. stands for “The Possibility to Overcome obstacles While Empowering one another through Relationship.” \nThe actual meaning of the word tough is something that is durable and strong. Learn how you can turn your ‘tough day’ into something that helps you be more strong and durable for your next challenge. If you have experienced a tough day\, week\, or month(s) this group is for you. Come get tips from a certified life coach & your peers.  \nTHIS GROUP DOES NOT PROVIDE CRISIS CARE AND IS NOT MEANT TO SUPPLEMENT CRISIS CARE IF AN EMERGENCY SITUATION HAS OCCURED. 
URL:https://hatefreetogether.org/event/tough-day-p-o-w-e-r-hour/2024-05-21/
LOCATION:Coach Finch\, 1260 Lake Blvd. Suite #201\, Davis\, CA\, 95616
ATTACH;FMTTYPE=image/jpeg:https://hatefreetogether.org/wp-content/uploads/POWER-Hour-by-Coach-Finch.jpg
END:VEVENT
BEGIN:VEVENT
DTSTART;TZID=UTC:20240514T190000
DTEND;TZID=UTC:20240514T200000
DTSTAMP:20260421T200740
CREATED:20240408T193241Z
LAST-MODIFIED:20240408T193405Z
UID:10000109-1715713200-1715716800@hatefreetogether.org
SUMMARY:Tough Day P.O.W.E.R. Hour
DESCRIPTION:Coach Finch offers a free support group every Tuesday from 7-8 pm for those 18 years and older. P.O.W.E.R. stands for “The Possibility to Overcome obstacles While Empowering one another through Relationship.” \nThe actual meaning of the word tough is something that is durable and strong. Learn how you can turn your ‘tough day’ into something that helps you be more strong and durable for your next challenge. If you have experienced a tough day\, week\, or month(s) this group is for you. Come get tips from a certified life coach & your peers.  \nTHIS GROUP DOES NOT PROVIDE CRISIS CARE AND IS NOT MEANT TO SUPPLEMENT CRISIS CARE IF AN EMERGENCY SITUATION HAS OCCURED. 
URL:https://hatefreetogether.org/event/tough-day-p-o-w-e-r-hour/2024-05-14/
LOCATION:Coach Finch\, 1260 Lake Blvd. Suite #201\, Davis\, CA\, 95616
ATTACH;FMTTYPE=image/jpeg:https://hatefreetogether.org/wp-content/uploads/POWER-Hour-by-Coach-Finch.jpg
END:VEVENT
BEGIN:VEVENT
DTSTART;TZID=UTC:20240507T190000
DTEND;TZID=UTC:20240507T200000
DTSTAMP:20260421T200740
CREATED:20240408T193241Z
LAST-MODIFIED:20240408T193405Z
UID:10000108-1715108400-1715112000@hatefreetogether.org
SUMMARY:Tough Day P.O.W.E.R. Hour
DESCRIPTION:Coach Finch offers a free support group every Tuesday from 7-8 pm for those 18 years and older. P.O.W.E.R. stands for “The Possibility to Overcome obstacles While Empowering one another through Relationship.” \nThe actual meaning of the word tough is something that is durable and strong. Learn how you can turn your ‘tough day’ into something that helps you be more strong and durable for your next challenge. If you have experienced a tough day\, week\, or month(s) this group is for you. Come get tips from a certified life coach & your peers.  \nTHIS GROUP DOES NOT PROVIDE CRISIS CARE AND IS NOT MEANT TO SUPPLEMENT CRISIS CARE IF AN EMERGENCY SITUATION HAS OCCURED. 
URL:https://hatefreetogether.org/event/tough-day-p-o-w-e-r-hour/2024-05-07/
LOCATION:Coach Finch\, 1260 Lake Blvd. Suite #201\, Davis\, CA\, 95616
ATTACH;FMTTYPE=image/jpeg:https://hatefreetogether.org/wp-content/uploads/POWER-Hour-by-Coach-Finch.jpg
END:VEVENT
BEGIN:VEVENT
DTSTART;TZID=UTC:20240430T190000
DTEND;TZID=UTC:20240430T200000
DTSTAMP:20260421T200740
CREATED:20240408T193241Z
LAST-MODIFIED:20240408T193405Z
UID:10000107-1714503600-1714507200@hatefreetogether.org
SUMMARY:Tough Day P.O.W.E.R. Hour
DESCRIPTION:Coach Finch offers a free support group every Tuesday from 7-8 pm for those 18 years and older. P.O.W.E.R. stands for “The Possibility to Overcome obstacles While Empowering one another through Relationship.” \nThe actual meaning of the word tough is something that is durable and strong. Learn how you can turn your ‘tough day’ into something that helps you be more strong and durable for your next challenge. If you have experienced a tough day\, week\, or month(s) this group is for you. Come get tips from a certified life coach & your peers.  \nTHIS GROUP DOES NOT PROVIDE CRISIS CARE AND IS NOT MEANT TO SUPPLEMENT CRISIS CARE IF AN EMERGENCY SITUATION HAS OCCURED. 
URL:https://hatefreetogether.org/event/tough-day-p-o-w-e-r-hour/2024-04-30/
LOCATION:Coach Finch\, 1260 Lake Blvd. Suite #201\, Davis\, CA\, 95616
ATTACH;FMTTYPE=image/jpeg:https://hatefreetogether.org/wp-content/uploads/POWER-Hour-by-Coach-Finch.jpg
END:VEVENT
BEGIN:VEVENT
DTSTART;TZID=UTC:20240423T190000
DTEND;TZID=UTC:20240423T200000
DTSTAMP:20260421T200740
CREATED:20240408T193241Z
LAST-MODIFIED:20240408T193405Z
UID:10000106-1713898800-1713902400@hatefreetogether.org
SUMMARY:Tough Day P.O.W.E.R. Hour
DESCRIPTION:Coach Finch offers a free support group every Tuesday from 7-8 pm for those 18 years and older. P.O.W.E.R. stands for “The Possibility to Overcome obstacles While Empowering one another through Relationship.” \nThe actual meaning of the word tough is something that is durable and strong. Learn how you can turn your ‘tough day’ into something that helps you be more strong and durable for your next challenge. If you have experienced a tough day\, week\, or month(s) this group is for you. Come get tips from a certified life coach & your peers.  \nTHIS GROUP DOES NOT PROVIDE CRISIS CARE AND IS NOT MEANT TO SUPPLEMENT CRISIS CARE IF AN EMERGENCY SITUATION HAS OCCURED. 
URL:https://hatefreetogether.org/event/tough-day-p-o-w-e-r-hour/2024-04-23/
LOCATION:Coach Finch\, 1260 Lake Blvd. Suite #201\, Davis\, CA\, 95616
ATTACH;FMTTYPE=image/jpeg:https://hatefreetogether.org/wp-content/uploads/POWER-Hour-by-Coach-Finch.jpg
END:VEVENT
BEGIN:VEVENT
DTSTART;TZID=UTC:20240416T190000
DTEND;TZID=UTC:20240416T200000
DTSTAMP:20260421T200740
CREATED:20240408T193241Z
LAST-MODIFIED:20240408T193405Z
UID:10000105-1713294000-1713297600@hatefreetogether.org
SUMMARY:Tough Day P.O.W.E.R. Hour
DESCRIPTION:Coach Finch offers a free support group every Tuesday from 7-8 pm for those 18 years and older. P.O.W.E.R. stands for “The Possibility to Overcome obstacles While Empowering one another through Relationship.” \nThe actual meaning of the word tough is something that is durable and strong. Learn how you can turn your ‘tough day’ into something that helps you be more strong and durable for your next challenge. If you have experienced a tough day\, week\, or month(s) this group is for you. Come get tips from a certified life coach & your peers.  \nTHIS GROUP DOES NOT PROVIDE CRISIS CARE AND IS NOT MEANT TO SUPPLEMENT CRISIS CARE IF AN EMERGENCY SITUATION HAS OCCURED. 
URL:https://hatefreetogether.org/event/tough-day-p-o-w-e-r-hour/2024-04-16/
LOCATION:Coach Finch\, 1260 Lake Blvd. Suite #201\, Davis\, CA\, 95616
ATTACH;FMTTYPE=image/jpeg:https://hatefreetogether.org/wp-content/uploads/POWER-Hour-by-Coach-Finch.jpg
END:VEVENT
BEGIN:VEVENT
DTSTART;TZID=UTC:20240409T190000
DTEND;TZID=UTC:20240409T200000
DTSTAMP:20260421T200740
CREATED:20240408T193241Z
LAST-MODIFIED:20240408T193405Z
UID:10000104-1712689200-1712692800@hatefreetogether.org
SUMMARY:Tough Day P.O.W.E.R. Hour
DESCRIPTION:Coach Finch offers a free support group every Tuesday from 7-8 pm for those 18 years and older. P.O.W.E.R. stands for “The Possibility to Overcome obstacles While Empowering one another through Relationship.” \nThe actual meaning of the word tough is something that is durable and strong. Learn how you can turn your ‘tough day’ into something that helps you be more strong and durable for your next challenge. If you have experienced a tough day\, week\, or month(s) this group is for you. Come get tips from a certified life coach & your peers.  \nTHIS GROUP DOES NOT PROVIDE CRISIS CARE AND IS NOT MEANT TO SUPPLEMENT CRISIS CARE IF AN EMERGENCY SITUATION HAS OCCURED. 
URL:https://hatefreetogether.org/event/tough-day-p-o-w-e-r-hour/2024-04-09/
LOCATION:Coach Finch\, 1260 Lake Blvd. Suite #201\, Davis\, CA\, 95616
ATTACH;FMTTYPE=image/jpeg:https://hatefreetogether.org/wp-content/uploads/POWER-Hour-by-Coach-Finch.jpg
END:VEVENT
END:VCALENDAR