BEGIN:VCALENDAR
VERSION:2.0
PRODID:-//Hate-Free Together - ECPv6.15.18//NONSGML v1.0//EN
CALSCALE:GREGORIAN
METHOD:PUBLISH
X-WR-CALNAME:Hate-Free Together
X-ORIGINAL-URL:https://hatefreetogether.org
X-WR-CALDESC:Events for Hate-Free Together
REFRESH-INTERVAL;VALUE=DURATION:PT1H
X-Robots-Tag:noindex
X-PUBLISHED-TTL:PT1H
BEGIN:VTIMEZONE
TZID:UTC
BEGIN:STANDARD
TZOFFSETFROM:+0000
TZOFFSETTO:+0000
TZNAME:UTC
DTSTART:20230101T000000
END:STANDARD
END:VTIMEZONE
BEGIN:VEVENT
DTSTART;TZID=UTC:20240507T183000
DTEND;TZID=UTC:20240507T183000
DTSTAMP:20260422T032048
CREATED:20240307T141752Z
LAST-MODIFIED:20240307T141800Z
UID:10000080-1715106600-1715106600@hatefreetogether.org
SUMMARY:Thong Hy Huynh Awards Presentation
DESCRIPTION:At the City Council meeting on May 7\, winners will be announced and receive an award from the City Council for their work to raise awareness about diversity\, community\, social justice and equal rights.
URL:https://hatefreetogether.org/event/thong-hy-huynh-awards-presentation/
LOCATION:City Hall Community Chambers\, 23 Russell Blvd\, Davis\, CA\, 95616\, United States
ATTACH;FMTTYPE=image/png:https://hatefreetogether.org/wp-content/uploads/Copy-of-2024-Huynh-Award-FB-IG-1080-×-1080-px.png
END:VEVENT
END:VCALENDAR