BEGIN:VCALENDAR
VERSION:2.0
PRODID:-//Hate-Free Together - ECPv6.15.18//NONSGML v1.0//EN
CALSCALE:GREGORIAN
METHOD:PUBLISH
X-WR-CALNAME:Hate-Free Together
X-ORIGINAL-URL:https://hatefreetogether.org
X-WR-CALDESC:Events for Hate-Free Together
REFRESH-INTERVAL;VALUE=DURATION:PT1H
X-Robots-Tag:noindex
X-PUBLISHED-TTL:PT1H
BEGIN:VTIMEZONE
TZID:UTC
BEGIN:STANDARD
TZOFFSETFROM:+0000
TZOFFSETTO:+0000
TZNAME:UTC
DTSTART:20230101T000000
END:STANDARD
END:VTIMEZONE
BEGIN:VEVENT
DTSTART;TZID=UTC:20240320T180000
DTEND;TZID=UTC:20240320T193000
DTSTAMP:20260422T094832
CREATED:20240318T162715Z
LAST-MODIFIED:20240318T162732Z
UID:10000083-1710957600-1710963000@hatefreetogether.org
SUMMARY:DJUSD PEP (Parent Empowerment Program) Talk
DESCRIPTION:Join DJUSD for a monthly PEP talk featuring community partners presenting on a variety of mental health topics and parenting resources. PEP Talks are held the 3rd Wednesday of the month from 6:00-7:30pm via zoom. \nSelf-Care for Parents & Guardians \nIt is easy to lose sight of your own well-being with all of the responsibilities that come with parenting. In March’s virtual PEP talk\, participants will talk about the importance of self-care for parents and caregivers\, discuss effective evidence-based strategies for self-care and learn how to create a life enhancing self-care plan you can use right away without letting it become a burden. \n  \nRegister here: https://bit.ly/PEPTalkSelfCare
URL:https://hatefreetogether.org/event/djusd-pep-parent-empowerment-program-talk/
LOCATION:Zoom
ATTACH;FMTTYPE=image/jpeg:https://hatefreetogether.org/wp-content/uploads/PEP-Talk-Self-Care-for-Parents-Guardians-3-20-24_Page_1.jpg
END:VEVENT
END:VCALENDAR