BEGIN:VCALENDAR
VERSION:2.0
PRODID:-//Hate-Free Together - ECPv6.15.18//NONSGML v1.0//EN
CALSCALE:GREGORIAN
METHOD:PUBLISH
X-WR-CALNAME:Hate-Free Together
X-ORIGINAL-URL:https://hatefreetogether.org
X-WR-CALDESC:Events for Hate-Free Together
REFRESH-INTERVAL;VALUE=DURATION:PT1H
X-Robots-Tag:noindex
X-PUBLISHED-TTL:PT1H
BEGIN:VTIMEZONE
TZID:UTC
BEGIN:STANDARD
TZOFFSETFROM:+0000
TZOFFSETTO:+0000
TZNAME:UTC
DTSTART:20250101T000000
END:STANDARD
END:VTIMEZONE
BEGIN:VEVENT
DTSTART;TZID=UTC:20260423T183000
DTEND;TZID=UTC:20260423T200000
DTSTAMP:20260425T140807
CREATED:20260424T165540Z
LAST-MODIFIED:20260424T165540Z
UID:10000487-1776969000-1776974400@hatefreetogether.org
SUMMARY:Human Relations Commission Meetings
DESCRIPTION:The Davis Human Relations Commission (HRC) meetings aim to promote mutual respect\, understanding\, justice\, and advancing the human rights of all people. The Human Relations Commission meets on the fourth Thursday of each month at 6:30 p.m. The Commission takes a recess in July (no meeting in July). \n  \nMeetings take place in the Community Chambers at City Hall\, 23 Russell Boulevard. For more information on meetings\, membership\, resolutions\, and more\, visit the Human Relations Commission site. \n  \nThe HRC makes recommendations around equity and discrimination in the City\, and supports the City in preventing and addressing discrimination while promoting diversity\, equality\, and justice relevant to the goals and policies of the City Council. \n  \nTo contact or send emails to the commission\, email: HRC@cityofdavis.org
URL:https://hatefreetogether.org/event/human-relations-commission-meetings/2026-04-23/
LOCATION:City Hall Community Chambers\, 23 Russell Blvd\, Davis\, CA\, 95616\, United States
ATTACH;FMTTYPE=image/webp:https://hatefreetogether.org/wp-content/uploads/humanrelations_ci_SACHA_CHICKERING-scaled-e1777049624821.webp
END:VEVENT
END:VCALENDAR