BEGIN:VCALENDAR
VERSION:2.0
PRODID:-//Hate-Free Together - ECPv6.15.18//NONSGML v1.0//EN
CALSCALE:GREGORIAN
METHOD:PUBLISH
X-WR-CALNAME:Hate-Free Together
X-ORIGINAL-URL:https://hatefreetogether.org
X-WR-CALDESC:Events for Hate-Free Together
REFRESH-INTERVAL;VALUE=DURATION:PT1H
X-Robots-Tag:noindex
X-PUBLISHED-TTL:PT1H
BEGIN:VTIMEZONE
TZID:UTC
BEGIN:STANDARD
TZOFFSETFROM:+0000
TZOFFSETTO:+0000
TZNAME:UTC
DTSTART:20250101T000000
END:STANDARD
END:VTIMEZONE
BEGIN:VEVENT
DTSTART;VALUE=DATE:20260417
DTEND;VALUE=DATE:20260521
DTSTAMP:20260421T112933
CREATED:20260417T172249Z
LAST-MODIFIED:20260417T172249Z
UID:10000355-1776384000-1779321599@hatefreetogether.org
SUMMARY:Mental Health First Aid Trainings
DESCRIPTION:Mental Health First Aid trainings (MHFA) are an evidence-based training program that teaches everyday people how to recognize the signs of mental health and substance use challenges\, offer initial support\, and guide someone toward appropriate professional help. \nDeveloped by Mental Health First Aid\, this course virtually empowers participants with practical\, real-world skills. Through interactive discussions\, scenario-based learning\, and expert guidance\, you’ll gain confidence in how to approach sensitive situations\, start supportive conversations\, and respond effectively in moments of crisis or uncertainty. \nWhether you’re a student\, educator\, employee\, or community member\, MHFA equips you to make a meaningful difference. Participants learn how to identify early warning signs of mental health challenges\, listen nonjudgmentally and communicate with empathy\, respond to crises such as panic attacks or severe distress\, connect individuals with appropriate resources and support systems \nMFHA offers both youth and adult trainings. Prices vary per instructor. See https://mentalhealthfirstaid.org/individuals/find-courses/ to register for a class at your preferred time!
URL:https://hatefreetogether.org/event/mental-health-first-aid-trainings-2/
LOCATION:CA
ATTACH;FMTTYPE=image/jpeg:https://hatefreetogether.org/wp-content/uploads/2602_STOCK_Adults-in-classroom-circle-081e94379e1d04e842f383913413fd04-7dbflsaik8ux-e1776446135525.jpg
END:VEVENT
END:VCALENDAR